BEGIN:VCALENDAR
VERSION:2.0
PRODID:-//ZContent.net//ZapCalLib 1.0//EN
CALSCALE:GREGORIAN
METHOD:PUBLISH
BEGIN:VEVENT
SUMMARY:Otwarcie konferencji
DTSTART:20220211T120000
DTEND:20220211T131500
UID:Otwarcie konferencji23043_1776961958
DTSTAMP:20260423T163238
Description:
END:VEVENT
END:VCALENDAR
