BEGIN:VCALENDAR
VERSION:2.0
PRODID:-//ZContent.net//ZapCalLib 1.0//EN
CALSCALE:GREGORIAN
METHOD:PUBLISH
BEGIN:VEVENT
SUMMARY:Sesja 1. Szyjka macicy – diagnostyka i leczenie schorzeń
DTSTART:20220211T121500
DTEND:20220211T141500
UID:Sesja 1. Szyjka macicy – diagnostyka i leczenie schorzeń23044_177696
 1926
DTSTAMP:20260423T163206
Description:
END:VEVENT
END:VCALENDAR
