BEGIN:VCALENDAR
VERSION:2.0
PRODID:-//ZContent.net//ZapCalLib 1.0//EN
CALSCALE:GREGORIAN
METHOD:PUBLISH
BEGIN:VEVENT
SUMMARY:Sesja 2. Zaburzenia statyki narządu płciowego – od profilaktyki
  do leczenia operacyjnego
DTSTART:20220211T132000
DTEND:20220211T150000
UID:Sesja 2. Zaburzenia statyki narządu płciowego – od profilaktyki do 
 leczenia operacyjnego23048_1776961671
DTSTAMP:20260423T162751
Description:
END:VEVENT
END:VCALENDAR
