BEGIN:VCALENDAR
VERSION:2.0
PRODID:-//ZContent.net//ZapCalLib 1.0//EN
CALSCALE:GREGORIAN
METHOD:PUBLISH
BEGIN:VEVENT
SUMMARY:Sesja 3. Perinatologia  nowe wyzwania
DTSTART:20220211T140500
DTEND:20220211T162500
UID:Sesja 3. Perinatologia  nowe wyzwania23053_1776961525
DTSTAMP:20260423T162525
Description:
END:VEVENT
END:VCALENDAR
