BEGIN:VCALENDAR
VERSION:2.0
PRODID:-//ZContent.net//ZapCalLib 1.0//EN
CALSCALE:GREGORIAN
METHOD:PUBLISH
BEGIN:VEVENT
SUMMARY:Sesja 4. Ginekologia – stare wyzwania w nowym wydaniu
DTSTART:20220211T153000
DTEND:20220211T173000
UID:Sesja 4. Ginekologia – stare wyzwania w nowym wydaniu23063_1776961612
DTSTAMP:20260423T162652
Description:
END:VEVENT
END:VCALENDAR
