BEGIN:VCALENDAR
VERSION:2.0
PRODID:-//ZContent.net//ZapCalLib 1.0//EN
CALSCALE:GREGORIAN
METHOD:PUBLISH
BEGIN:VEVENT
SUMMARY:Podsumowanie
DTSTART:20220211T163000
DTEND:20220211T174000
UID:Podsumowanie23067_1776961875
DTSTAMP:20260423T163115
Description:
END:VEVENT
END:VCALENDAR
